BEGIN:VCALENDAR
VERSION:2.0
PRODID:-//wp-events-plugin.com//7.2.3.1//EN
TZID:America/Toronto
X-WR-TIMEZONE:America/Toronto
BEGIN:VEVENT
UID:187@gtapa.org
DTSTART;TZID=America/Toronto:20230718T190000
DTEND;TZID=America/Toronto:20230718T210000
DTSTAMP:20230717T162055Z
URL:https://gtapa.org/events/wtsc-discussion-the-postal-history-and-exampl
 es-of-usage-of-low-value-definitives
SUMMARY:WTSC Discussion "The Postal History and Examples of Usage of Low Va
 lue Definitives" -  - 18 Jul 23 19:00
DESCRIPTION:Time: Jul 18\, 2023 07:00 PM Eastern Time (US and Canada)\n\nTo
 pic:: The Postal History and Examples of Usage of Low Value Definitives\n\
 nThis Discussion Group meeting will be a ‘Show &amp\; Tell’ type of ev
 ent supported by contributions from the attendees.\n\nEvery nation or stam
 p issuing entity produces sets of definitive stamps in which there is usua
 lly a planned purpose for each value in the set. For this meeting\, attend
 ees are being asked to select any definitive issue from anywhere in the wo
 rld and show the postal use (or uses) of the low value of the set.\n\nIf i
 nterested\, contact Garfield garfield.portch@gmail.com for an  invite.
END:VEVENT
BEGIN:VTIMEZONE
TZID:America/Toronto
X-LIC-LOCATION:America/Toronto
BEGIN:DAYLIGHT
DTSTART:20230312T030000
TZOFFSETFROM:-0500
TZOFFSETTO:-0400
TZNAME:EDT
END:DAYLIGHT
END:VTIMEZONE
END:VCALENDAR