BEGIN:VCALENDAR
VERSION:2.0
PRODID:-//wp-events-plugin.com//7.2.3.1//EN
TZID:America/Toronto
X-WR-TIMEZONE:America/Toronto
BEGIN:VEVENT
UID:107@gtapa.org
DTSTART;TZID=America/Toronto:20220215T190000
DTEND;TZID=America/Toronto:20220215T210000
DTSTAMP:20220213T001952Z
URL:https://gtapa.org/events/wtsc-discussion-group
SUMMARY:WTSC Discussion Group -  - 15 Feb 22 19:00
DESCRIPTION:West Toronto Stamp Club Discussion Group\n\nTopic: The WTSC Dis
 cussion Group will have an open forum on Registered Mail from any source t
 o any destination. Members and guests are encouraged to scan material to s
 hare with the group.\n\nTime: Feb 15\, 2022 07:00 PM Eastern Time (US and 
 Canada)\n\nIf you interested in attending this Zoom session\, please conta
 ct Garfield at garfield.portch@gmail.com
END:VEVENT
BEGIN:VTIMEZONE
TZID:America/Toronto
X-LIC-LOCATION:America/Toronto
BEGIN:STANDARD
DTSTART:20211107T010000
TZOFFSETFROM:-0400
TZOFFSETTO:-0500
TZNAME:EST
END:STANDARD
END:VTIMEZONE
END:VCALENDAR