BEGIN:VCALENDAR
VERSION:2.0
PRODID:-//wp-events-plugin.com//7.2.3.1//EN
TZID:America/Toronto
X-WR-TIMEZONE:America/Toronto
BEGIN:VEVENT
UID:142@gtapa.org
DTSTART;TZID=America/Toronto:20230117T190000
DTEND;TZID=America/Toronto:20230117T210000
DTSTAMP:20230112T061806Z
URL:https://gtapa.org/events/west-toronto-stamp-club-discussion-group-a-va
 riety-of-varieties
SUMMARY:West Toronto Stamp Club Discussion Group "A Variety of Varieties" -
   - 17 Jan 23 19:00
DESCRIPTION:Time: Jan 17\, 2023 07:00 PM Eastern Time (US and Canada)\n\nLo
 cation:  Fairfield Senior Centre\,  80 Lothian Avenue\,  Etobicoke\n\nT
 opic: The presentation is entitled “A Variety of Varieties” and featu
 res on-cover and used examples of over 35 different types of varieties\, f
 rom early Victorian re-entries and plate flaws to later Elizabethan printi
 ng errors.\n\nTo register contact: sidmensinga@rogers.com
END:VEVENT
BEGIN:VTIMEZONE
TZID:America/Toronto
X-LIC-LOCATION:America/Toronto
BEGIN:STANDARD
DTSTART:20221106T010000
TZOFFSETFROM:-0400
TZOFFSETTO:-0500
TZNAME:EST
END:STANDARD
END:VTIMEZONE
END:VCALENDAR