BEGIN:VCALENDAR
VERSION:2.0
PRODID:-//wp-events-plugin.com//7.2.3.1//EN
TZID:America/Toronto
X-WR-TIMEZONE:America/Toronto
BEGIN:VEVENT
UID:193@gtapa.org
DTSTART;TZID=America/Toronto:20240214T190000
DTEND;TZID=America/Toronto:20240214T210000
DTSTAMP:20240202T025204Z
URL:https://gtapa.org/events/ukrainian-collectibles-society-meeting-50
SUMMARY:Ukrainian Collectibles Society Meeting - UNO Bistro - 14 Feb 24 19:
 00
DESCRIPTION:Meeting Date:  Wednesday February 14 @ 7:00PM\n\n145 Evans Ave
 \, Etobicoke (block from Islington)\n
LOCATION:UNO Bistro\, 145 Evans Avenue\, Etobicoke\, ON\, M8Z 5X8\, Canada
X-APPLE-STRUCTURED-LOCATION;VALUE=URI;X-ADDRESS=145 Evans Avenue\, Etobicok
 e\, ON\, M8Z 5X8\, Canada;X-APPLE-RADIUS=100;X-TITLE=UNO Bistro:geo:0,0
END:VEVENT
BEGIN:VTIMEZONE
TZID:America/Toronto
X-LIC-LOCATION:America/Toronto
BEGIN:STANDARD
DTSTART:20231105T010000
TZOFFSETFROM:-0400
TZOFFSETTO:-0500
TZNAME:EST
END:STANDARD
END:VTIMEZONE
END:VCALENDAR