BEGIN:VCALENDAR
VERSION:2.0
PRODID:-//wp-events-plugin.com//7.2.3.1//EN
TZID:America/Toronto
X-WR-TIMEZONE:America/Toronto
BEGIN:VEVENT
UID:23@gtapa.org
DTSTART;TZID=America/Toronto:20200203T190000
DTEND;TZID=America/Toronto:20200203T210000
DTSTAMP:20200127T034504Z
URL:https://gtapa.org/events/ukrainian-collectibles-society-meeting-35
SUMMARY:Ukrainian Collectibles Society Meeting -  - 3 Feb 20 19:00
DESCRIPTION:Location: Taras Shevchenko Community\n\nAddress: 482 Horner Ave
 \, Toronto\, ON M8W 2B7\n\nTime:  7:00pm to 9:00pm
END:VEVENT
BEGIN:VTIMEZONE
TZID:America/Toronto
X-LIC-LOCATION:America/Toronto
BEGIN:STANDARD
DTSTART:20191103T010000
TZOFFSETFROM:-0400
TZOFFSETTO:-0500
TZNAME:EST
END:STANDARD
END:VTIMEZONE
END:VCALENDAR