BEGIN:VCALENDAR
VERSION:2.0
PRODID:-//wp-events-plugin.com//7.2.3.1//EN
TZID:America/Toronto
X-WR-TIMEZONE:America/Toronto
BEGIN:VEVENT
UID:138@gtapa.org
DTSTART;TZID=America/Toronto:20220613T190000
DTEND;TZID=America/Toronto:20220613T210000
DTSTAMP:20220526T183436Z
URL:https://gtapa.org/events/rpsc-stamp-talks-postcards-the-pioneer-period
 -late-victorian-1898-1903
SUMMARY:RPSC Stamp Talks "Postcards - The Pioneer Period - Late Victorian 1
 898 – 1903" -  - 13 Jun 22 19:00
DESCRIPTION:Please join us for Stamp Talks on June 13\, 2022 07:00 PM Easte
 rn Time\n\nTopic:  Postcards - The Pioneer Period - Late Victorian 1898 
 – 1903\n\nSpeaker - Leigh Hogg\n\nhttps://us06web.zoom.us/webinar/regis
 ter/WN_KXGufxUDSUi_5NnG4h6mRg\n\nAfter registering\, you will receive a co
 nfirmation email containing information about joining the webinar.
END:VEVENT
BEGIN:VTIMEZONE
TZID:America/Toronto
X-LIC-LOCATION:America/Toronto
BEGIN:DAYLIGHT
DTSTART:20220313T030000
TZOFFSETFROM:-0500
TZOFFSETTO:-0400
TZNAME:EDT
END:DAYLIGHT
END:VTIMEZONE
END:VCALENDAR