BEGIN:VCALENDAR
VERSION:2.0
PRODID:-//wp-events-plugin.com//7.2.3.1//EN
TZID:America/Toronto
X-WR-TIMEZONE:America/Toronto
BEGIN:VEVENT
UID:169@gtapa.org
DTSTART;TZID=America/Toronto:20230320T190000
DTEND;TZID=America/Toronto:20230320T210000
DTSTAMP:20230312T001417Z
URL:https://gtapa.org/events/rpsc-stamp-panels-tools-of-the-hobby
SUMMARY:RPSC Stamp Panels "Tools of the Hobby" -  - 20 Mar 23 19:00
DESCRIPTION:RPSC Presents: Stamp Panels\n\nTools of the Hobby\n\nsponsored 
 by SPARKS AUCTIONS\n\nMonday\, March 20\, 7 p.m. EST\n\nYou will receive a
 n email with the meeting information after registering. The meeting room w
 ill open at 6:50 p.m. and the webinar will begin at 7.\n\nRegistration\n\n
 Panelists\n\nBill Burden\n\nBill started collecting stamps in Grade 1\, an
 d still has his very first pair of tongs. He joined the Truro Philatelic S
 ociety in his first year of teaching\; that's where he gained a passion fo
 r Constant Plate Varieties (CPVs).\n\nHe owned a small stamp dealership fo
 r a time\, and his exhibits almost always showed varieties on steel engrav
 ed stamps of Canada. After retiring from teaching\, Bill worked full time 
 as an Auction Manager for nine years.\n\nBill’s primary philatelic focus
  now is the Admiral issue. He is attempting to provide as many images of A
 dmiral CPVs as possible. His web sites have over 3000 pages of Admiral CPV
 s. Visit wgburden.com to find links to all of Bill’s sites.\n\nGarfield 
 Portch\n\nGarfield began collecting stamps in the 1970s. By 2000\, he deve
 loped into an interest in research and exhibiting postal history.\nHe is a
  member of the Philatelic Specialists Society of Canada\, the President an
 d Chairman of the Vincent Graves Greene Philatelic Research Foundation\, a
 nd a Fellow of the Royal Philatelic Society of Canada\, an Emeritus member
  of the British North America Philatelic Society\, and a member of the Can
 adian Philatelic Society of Great Britain\, The American Association of Ph
 ilatelic Exhibitors\, the Institute for Analytic Philately\, and the West 
 Toronto Stamp Club.\n\nAlready have a question for our panelists? Send it 
 in before the event and we'll share it with them.\n\nSupport Stamp Panels\
 n\nIt costs over $800 a year in fees to run these online events. These pro
 grams are free for everyone to enjoy\, and your financial gift will help e
 nsure The RPSC can continue to offer interesting\, insightful\, and educat
 ional programs for all.\n\nDonations can be made with a debit or credit ca
 rd through PayPal without a PayPal account. Note: Donations are not tax-re
 ceiptable.
END:VEVENT
BEGIN:VTIMEZONE
TZID:America/Toronto
X-LIC-LOCATION:America/Toronto
BEGIN:DAYLIGHT
DTSTART:20230312T030000
TZOFFSETFROM:-0500
TZOFFSETTO:-0400
TZNAME:EDT
END:DAYLIGHT
END:VTIMEZONE
END:VCALENDAR