BEGIN:VCALENDAR
VERSION:2.0
PRODID:-//wp-events-plugin.com//7.2.3.1//EN
TZID:America/Toronto
X-WR-TIMEZONE:America/Toronto
BEGIN:VEVENT
UID:141@gtapa.org
DTSTART;TZID=America/Toronto:20220815T190000
DTEND;TZID=America/Toronto:20220815T210000
DTSTAMP:20220805T151854Z
URL:https://gtapa.org/events/rpsc-stamp-panels-how-young-collectors-are-en
 gaging-with-philately
SUMMARY:RPSC Stamp Panels "How young collectors are engaging with philately
 " -  - 15 Aug 22 19:00
DESCRIPTION:RPSC presents Stamp Panels\nAugust 15\, 2022 at 7 p.m. ET\n\nHo
 w young collectors are engaging with philately\n\nsponsored by sparks-auct
 ions.com\n\nPanelists:\n\nJack Preuveneers\n\nJack is the editor of Scandi
 navian Contact Quarterly\, was a guest on Conversations with Philatelists\
 , and recently exhibited at London 2022. He founded the International Phil
 atelic Promoters Discord server where collectors chat\, swap\, and help ea
 ch other with their collections.\n\nLisa B. of StampCat Stamps\n\nLisa B. 
 is the host of the StampCat Stamps YouTube channel. She's a new collector 
 enthusiastically sharing her philatelic journey of learning about stamps a
 nd growing her collection.\n\nLisa T.\n\nLisa T. is a new collector who is
  using her background in web and marketing to help with RPSC's Stamp Talks
  and Stamp Panels. She recently started sharing her cachets with pictorial
  cancels on Instagram as @can.cancels.\n\nJoin us on August 15\, 2022 at 7
  p.m. ET!\n\nThe meeting room will open at 6:50 and the webinar will begin
  promptly at 7 p.m.\n\nRegister now!\n\nOr go directly to the registration
  page:\nhttps://us06web.zoom.us/webinar/register/WN_fLJ_2sGxTNWAwXqeIPFITw
 \n\nYou will receive an email with the meeting information after registeri
 ng.
END:VEVENT
BEGIN:VTIMEZONE
TZID:America/Toronto
X-LIC-LOCATION:America/Toronto
BEGIN:DAYLIGHT
DTSTART:20220313T030000
TZOFFSETFROM:-0500
TZOFFSETTO:-0400
TZNAME:EDT
END:DAYLIGHT
END:VTIMEZONE
END:VCALENDAR