BEGIN:VCALENDAR
VERSION:2.0
PRODID:-//wp-events-plugin.com//7.2.3.1//EN
TZID:America/Toronto
X-WR-TIMEZONE:America/Toronto
BEGIN:VEVENT
UID:91@gtapa.org
DTSTART;TZID=America/Toronto:20220117T070000
DTEND;TZID=America/Toronto:20220117T090000
DTSTAMP:20220109T183434Z
URL:https://gtapa.org/events/rpsc-stamp-panel-3
SUMMARY:RPSC Stamp Panel -  - 17 Jan 22 07:00
DESCRIPTION:RPSC Stamp Panels\n\nYou are invited to a Zoom webinar.\nWhen: 
 Jan 17\, 2022 07:00 PM Eastern Time (US and Canada)\nTopic: Stamp Panels -
  Jan 17\, 2022\n\nRegister in advance for this webinar:\nhttps://us06web.z
 oom.us/webinar/register/WN_1hMqtuHdR924pV12olQamg\n\nAfter registering\, y
 ou will receive a confirmation email containing information about joining 
 the webinar.\n\nWebinar Speakers\n\nKen Lemke (Moderator )\nBob Vogel (Pan
 elist )\nGary Dickinson (Panelist )\nAndrew Chung (Panelist )
END:VEVENT
BEGIN:VTIMEZONE
TZID:America/Toronto
X-LIC-LOCATION:America/Toronto
BEGIN:STANDARD
DTSTART:20211107T010000
TZOFFSETFROM:-0400
TZOFFSETTO:-0500
TZNAME:EST
END:STANDARD
END:VTIMEZONE
END:VCALENDAR