BEGIN:VCALENDAR
VERSION:2.0
PRODID:-//wp-events-plugin.com//7.2.3.1//EN
TZID:America/Toronto
X-WR-TIMEZONE:America/Toronto
BEGIN:VEVENT
UID:76@gtapa.org
DTSTART;TZID=America/Toronto:20211203T083000
DTEND;TZID=America/Toronto:20211203T103000
DTSTAMP:20211101T200709Z
URL:https://gtapa.org/events/oshawa-whitby-brooklin-group-meeting-4
SUMMARY:Oshawa/Whitby/Brooklin Group Meeting -  - 3 Dec 21 08:30
DESCRIPTION:Oshawa/Whitby/Brooklin group continue their outdoor meetings on
  the First &amp\; Third Fridays\, 8:30 to 10:30 am at the back parking lot
  behind a Tim Hortons in Whitby.
END:VEVENT
BEGIN:VTIMEZONE
TZID:America/Toronto
X-LIC-LOCATION:America/Toronto
BEGIN:STANDARD
DTSTART:20211107T010000
TZOFFSETFROM:-0400
TZOFFSETTO:-0500
TZNAME:EST
END:STANDARD
END:VTIMEZONE
END:VCALENDAR