BEGIN:VCALENDAR
VERSION:2.0
PRODID:-//wp-events-plugin.com//7.2.3.1//EN
TZID:America/Toronto
X-WR-TIMEZONE:America/Toronto
BEGIN:VEVENT
UID:178@gtapa.org
DTSTART;TZID=America/Toronto:20230507T100000
DTEND;TZID=America/Toronto:20230507T160000
DTSTAMP:20230321T014459Z
URL:https://gtapa.org/events/orapex-2023-2
SUMMARY:ORAPEX 2023 -  - 7 May 23 10:00
DESCRIPTION:ORAPEX will take place May 6-7\, 2023 at the Nepean Sportsplex\
 , 1701 Woodroffe Avenue in Otta-wa. 2023 will mark the 60th anniversary of
  the show. Each year\, ORAPEX has a theme. For the 2023 show\, the theme i
 s Definitives.\n\nFree admission and parking. Hours are 10-6 on Saturday M
 ay 6 and 10-4 on Sunday May 7. For more information\, visit www.orapex.ca 
 or contact the organizers at info@orapex.ca
END:VEVENT
BEGIN:VTIMEZONE
TZID:America/Toronto
X-LIC-LOCATION:America/Toronto
BEGIN:DAYLIGHT
DTSTART:20230312T030000
TZOFFSETFROM:-0500
TZOFFSETTO:-0400
TZNAME:EDT
END:DAYLIGHT
END:VTIMEZONE
END:VCALENDAR