BEGIN:VCALENDAR
VERSION:2.0
PRODID:-//wp-events-plugin.com//7.2.3.1//EN
TZID:America/Toronto
X-WR-TIMEZONE:America/Toronto
BEGIN:VEVENT
UID:106@gtapa.org
DTSTART;TZID=America/Toronto:20220310T190000
DTEND;TZID=America/Toronto:20220310T210000
DTSTAMP:20220224T015900Z
URL:https://gtapa.org/events/ntsc-i-collect-topical-stamps
SUMMARY:NTSC - I Collect Topical Stamps -  - 10 Mar 22 19:00
DESCRIPTION:North Toronto Stamp Club\n\nDescription:  visit www.NorthToron
 toStampClub.ca for full information.\n
END:VEVENT
BEGIN:VTIMEZONE
TZID:America/Toronto
X-LIC-LOCATION:America/Toronto
BEGIN:STANDARD
DTSTART:20211107T010000
TZOFFSETFROM:-0400
TZOFFSETTO:-0500
TZNAME:EST
END:STANDARD
END:VTIMEZONE
END:VCALENDAR