BEGIN:VCALENDAR
VERSION:2.0
PRODID:-//wp-events-plugin.com//7.2.3.1//EN
TZID:America/Toronto
X-WR-TIMEZONE:America/Toronto
BEGIN:VEVENT
UID:54@gtapa.org
DTSTART;TZID=America/Toronto:20221002T000000
DTEND;TZID=America/Toronto:20221002T000000
DTSTAMP:20211018T034511Z
URL:https://gtapa.org/events/mississauga-coin-stamp-show-7
SUMMARY:Mississauga Coin & Stamp Show -  - 2 Oct 22 00:00
DESCRIPTION:\n\nJohn Paul II Polish Cultural Centre\, 4300 Cawthra Rd.\, Mi
 ssissauga\, AL\, L4Z 1V8\n\n\n\n\n\nSponsored by the Troyak Club\, the Mis
 sissauga Coin and Stamp Show will be open from 9 a.m.-4 p.m.\, with 60 tab
 les and more than 30 dealers. There’s something for everyone\, with Cana
 dian and world coins\, stamps\, paper money\, tokens\, medals\, trade doll
 ars\, official mint products\, hobby supplies\, reference books and more. 
 Free evaluations plus buying\, selling and trading. Admission is $5 (child
 ren under the age of 16 are free)\, and parking is free.\n\nPhone: 416-505
 -7999\nEmail: leszekp@rogers.com\nWeb: http://www.troyakclub.com\n\n\n\n
END:VEVENT
BEGIN:VTIMEZONE
TZID:America/Toronto
X-LIC-LOCATION:America/Toronto
BEGIN:DAYLIGHT
DTSTART:20220313T030000
TZOFFSETFROM:-0500
TZOFFSETTO:-0400
TZNAME:EDT
END:DAYLIGHT
END:VTIMEZONE
END:VCALENDAR