BEGIN:VCALENDAR
VERSION:2.0
PRODID:-//wp-events-plugin.com//7.2.3.1//EN
TZID:America/Toronto
X-WR-TIMEZONE:America/Toronto
BEGIN:VEVENT
UID:156@gtapa.org
DTSTART;TZID=America/Toronto:20230222T093000
DTEND;TZID=America/Toronto:20230222T120000
DTSTAMP:20230210T020125Z
URL:https://gtapa.org/events/markham-stamp-club-meeting-2
SUMMARY:Markham Stamp Club Meeting -  - 22 Feb 23 09:30
DESCRIPTION:Markham Stamp Club Meeting\n\nMarkham Village Community Centre\
 n\n6041 Hwy 7 (S-E corner of Hwy 7 and Markham Rd)\, Markham
END:VEVENT
BEGIN:VTIMEZONE
TZID:America/Toronto
X-LIC-LOCATION:America/Toronto
BEGIN:STANDARD
DTSTART:20221106T010000
TZOFFSETFROM:-0400
TZOFFSETTO:-0500
TZNAME:EST
END:STANDARD
END:VTIMEZONE
END:VCALENDAR