BEGIN:VCALENDAR
VERSION:2.0
PRODID:-//wp-events-plugin.com//7.2.3.1//EN
TZID:America/Toronto
X-WR-TIMEZONE:America/Toronto
BEGIN:VEVENT
UID:40@gtapa.org
DTSTART;TZID=America/Toronto:20201004T100000
DTEND;TZID=America/Toronto:20201004T150000
DTSTAMP:20200317T034039Z
URL:https://gtapa.org/events/gtapas-circuit-circus
SUMMARY:GTAPA’s Circuit Circus -  - 4 Oct 20 10:00
DESCRIPTION:GTAPA’s Circuit Circus\n\nSunday Oct. 4th\, 2020\n10 am to 3 
 pm\n\nSOLINA COMMUNITY CENTRE\n1964 Consession Rd 6 - Solina On\n\nMulti C
 lub Sales Circuits\n(Search for Treasures/Varieties Stamps from 5 cents up
 )\n\nPlus Large Sales Table\n(From 25% of Cat. Value\n\nLunch &amp\; Refre
 shments available on site\n\nFree Admission and Parking\nWheel Chair Acces
 s – elevator on site\nDoor Prizes – including Mint Bluenose
END:VEVENT
BEGIN:VTIMEZONE
TZID:America/Toronto
X-LIC-LOCATION:America/Toronto
BEGIN:DAYLIGHT
DTSTART:20200308T030000
TZOFFSETFROM:-0500
TZOFFSETTO:-0400
TZNAME:EDT
END:DAYLIGHT
END:VTIMEZONE
END:VCALENDAR