BEGIN:VCALENDAR
VERSION:2.0
PRODID:-//wp-events-plugin.com//7.2.3.1//EN
TZID:America/Toronto
X-WR-TIMEZONE:America/Toronto
BEGIN:VEVENT
UID:199@gtapa.org
DTSTART;TZID=America/Toronto:20240327T193000
DTEND;TZID=America/Toronto:20240327T210000
DTSTAMP:20240229T023125Z
URL:https://gtapa.org/events/gtapa-meeting-72
SUMMARY:GTAPA Meeting -  - 27 Mar 24 19:30
DESCRIPTION:
END:VEVENT
BEGIN:VTIMEZONE
TZID:America/Toronto
X-LIC-LOCATION:America/Toronto
BEGIN:DAYLIGHT
DTSTART:20240310T030000
TZOFFSETFROM:-0500
TZOFFSETTO:-0400
TZNAME:EDT
END:DAYLIGHT
END:VTIMEZONE
END:VCALENDAR