BEGIN:VCALENDAR
VERSION:2.0
PRODID:-//wp-events-plugin.com//7.2.3.1//EN
TZID:America/Toronto
X-WR-TIMEZONE:America/Toronto
BEGIN:VEVENT
UID:51@gtapa.org
DTSTART;TZID=America/Toronto:20210922T190000
DTEND;TZID=America/Toronto:20210922T210000
DTSTAMP:20210922T230715Z
URL:https://gtapa.org/events/gtapa-meeting-56
SUMMARY:GTAPA Meeting -  - 22 Sep 21 19:00
DESCRIPTION:
END:VEVENT
BEGIN:VTIMEZONE
TZID:America/Toronto
X-LIC-LOCATION:America/Toronto
BEGIN:DAYLIGHT
DTSTART:20210314T030000
TZOFFSETFROM:-0500
TZOFFSETTO:-0400
TZNAME:EDT
END:DAYLIGHT
END:VTIMEZONE
END:VCALENDAR