BEGIN:VCALENDAR
VERSION:2.0
PRODID:-//wp-events-plugin.com//7.2.3.1//EN
TZID:America/Toronto
X-WR-TIMEZONE:America/Toronto
BEGIN:VEVENT
UID:87@gtapa.org
DTSTART;TZID=America/Toronto:20220113T180000
DTEND;TZID=America/Toronto:20220113T200000
DTSTAMP:20220109T181116Z
URL:https://gtapa.org/events/british-empire-study-group-presentation
SUMMARY:British Empire Study Group Presentation -  - 13 Jan 22 18:00
DESCRIPTION:Thursday\, January 13\, 2022\, 6 PM\n\nKen Pugh with special gu
 est Herbert Friedman\n\nPropaganda Stamps and Espionage Currency\, Part 2\
 n\nPresentation description – “If I told you\, I would have to kill yo
 u: Propaganda mail and espionage - Part 2.”\n\nThe webinar is open to al
 l. You need not be a member of the BESG to attend\, however you must regis
 ter in advance at\n\nhttps://us02web.zoom.us/webinar/register/281635636762
 4/WN_n5jPIfipSyqlhbpio8cqnQ
END:VEVENT
BEGIN:VTIMEZONE
TZID:America/Toronto
X-LIC-LOCATION:America/Toronto
BEGIN:STANDARD
DTSTART:20211107T010000
TZOFFSETFROM:-0400
TZOFFSETTO:-0500
TZNAME:EST
END:STANDARD
END:VTIMEZONE
END:VCALENDAR